BEGIN:VCALENDAR
VERSION:2.0
PRODID:-//The Trinitarians - India - ECPv5.3.2.1//NONSGML v1.0//EN
CALSCALE:GREGORIAN
METHOD:PUBLISH
X-WR-CALNAME:The Trinitarians - India
X-ORIGINAL-URL:https://trinitariansindia.org/wp
X-WR-CALDESC:Events for The Trinitarians - India
BEGIN:VTIMEZONE
TZID:UTC
BEGIN:STANDARD
TZOFFSETFROM:+0000
TZOFFSETTO:+0000
TZNAME:UTC
DTSTART:20220101T000000
END:STANDARD
END:VTIMEZONE
BEGIN:VEVENT
DTSTART;VALUE=DATE:20220530
DTEND;VALUE=DATE:20220531
DTSTAMP:20260425T002059
CREATED:20220611T102133Z
LAST-MODIFIED:20220611T102133Z
UID:10245-1653868800-1653955199@trinitariansindia.org
SUMMARY:Welcome Fr. Saneesh
DESCRIPTION:Fr. Saneesh\, Director of Vocations\, visited the community to visit Alan’s home and accompany him to Thrissur. Alan is planning to join the Order this year.
URL:https://trinitariansindia.org/wp/event/welcome-fr-saneesh/
LOCATION:Holy Trinity Ashram\, Kasaragod
CATEGORIES:Welcome
ATTACH;FMTTYPE=image/png:https://trinitariansindia.org/wp/wp-content/uploads/2022/06/KGQ-Welcome-May2022-1.png
END:VEVENT
END:VCALENDAR