BEGIN:VCALENDAR
VERSION:2.0
PRODID:-//The Trinitarians - India - ECPv5.3.2.1//NONSGML v1.0//EN
CALSCALE:GREGORIAN
METHOD:PUBLISH
X-WR-CALNAME:The Trinitarians - India
X-ORIGINAL-URL:https://trinitariansindia.org/wp
X-WR-CALDESC:Events for The Trinitarians - India
BEGIN:VTIMEZONE
TZID:UTC
BEGIN:STANDARD
TZOFFSETFROM:+0000
TZOFFSETTO:+0000
TZNAME:UTC
DTSTART:20200101T000000
END:STANDARD
END:VTIMEZONE
BEGIN:VEVENT
DTSTART;VALUE=DATE:20200531
DTEND;VALUE=DATE:20200601
DTSTAMP:20260422T091422
CREATED:20200612T111204Z
LAST-MODIFIED:20200612T111204Z
UID:7545-1590883200-1590969599@trinitariansindia.org
SUMMARY:Welcome to Aspirants
DESCRIPTION:Don Savio and Emmanuel joined the community for the Aspirancy program 2020-2021. Bro. Don completed class 10 and hails from Kozhikode.  Bro. Emmanuel completed class 10 and hails from Thanki\, Alappuzha. The community wished them a great stay here.
URL:https://trinitariansindia.org/wp/event/welcome-to-aspirants/
LOCATION:Holy Trinity Ashram\, Thrissur\, Holy Trinity Ashram\, Thrissur\, Kerala\, 680618\, India
CATEGORIES:Welcome
ATTACH;FMTTYPE=image/png:https://trinitariansindia.org/wp/wp-content/uploads/2020/06/TCR-welcome-May-2020.png
END:VEVENT
END:VCALENDAR