BEGIN:VCALENDAR
VERSION:2.0
PRODID:-//The Trinitarians - India - ECPv5.3.2.1//NONSGML v1.0//EN
CALSCALE:GREGORIAN
METHOD:PUBLISH
X-WR-CALNAME:The Trinitarians - India
X-ORIGINAL-URL:https://trinitariansindia.org/wp
X-WR-CALDESC:Events for The Trinitarians - India
BEGIN:VTIMEZONE
TZID:UTC
BEGIN:STANDARD
TZOFFSETFROM:+0000
TZOFFSETTO:+0000
TZNAME:UTC
DTSTART:20240101T000000
END:STANDARD
END:VTIMEZONE
BEGIN:VEVENT
DTSTART;VALUE=DATE:20240724
DTEND;VALUE=DATE:20240725
DTSTAMP:20260420T235726
CREATED:20240913T054912Z
LAST-MODIFIED:20240913T054925Z
UID:13393-1721779200-1721865599@trinitariansindia.org
SUMMARY:Welcome to Bishop Aldo
DESCRIPTION:Bishop Aldo visited the community and spent one day here while attending meetings with the Major Archbishops. The community warmly welcomed Bishop Aldo and Fr. George\, who accompanied him from Bahrain. It was a time filled with joy and grace.
URL:https://trinitariansindia.org/wp/event/welcome-to-bishop-aldo/
LOCATION:Holy Trinity Ashram – Bengaluru\, Holy Trinity Ashram\, Bengaluru\, karnataka\, 560076\, India
CATEGORIES:Welcome
ATTACH;FMTTYPE=image/png:https://trinitariansindia.org/wp/wp-content/uploads/2024/09/TCR-Welcome-Bishop-Aldo-July2024.png
END:VEVENT
END:VCALENDAR