BEGIN:VCALENDAR
VERSION:2.0
PRODID:-//The Trinitarians - India - ECPv5.3.2.1//NONSGML v1.0//EN
CALSCALE:GREGORIAN
METHOD:PUBLISH
X-WR-CALNAME:The Trinitarians - India
X-ORIGINAL-URL:https://trinitariansindia.org/wp
X-WR-CALDESC:Events for The Trinitarians - India
BEGIN:VTIMEZONE
TZID:UTC
BEGIN:STANDARD
TZOFFSETFROM:+0000
TZOFFSETTO:+0000
TZNAME:UTC
DTSTART:20230101T000000
END:STANDARD
END:VTIMEZONE
BEGIN:VEVENT
DTSTART;VALUE=DATE:20230112
DTEND;VALUE=DATE:20230113
DTSTAMP:20260421T084536
CREATED:20230211T065110Z
LAST-MODIFIED:20230211T065110Z
UID:11674-1673481600-1673567999@trinitariansindia.org
SUMMARY:Welcome to Bro. Abey
DESCRIPTION:Br. Abey\, a theology student of the Jesus Youth movement\, visited the community and stayed here for couple of days. The community enjoyed his presence.
URL:https://trinitariansindia.org/wp/event/welcome-to-bro-abey/
LOCATION:Holy Trinity Ashram\, Thrissur\, Holy Trinity Ashram\, Thrissur\, Kerala\, 680618\, India
CATEGORIES:Welcome
ATTACH;FMTTYPE=image/png:https://trinitariansindia.org/wp/wp-content/uploads/2023/02/TCR-welcome-Br-Abey-Jan2023.png
END:VEVENT
END:VCALENDAR