BEGIN:VCALENDAR
VERSION:2.0
PRODID:-//The Trinitarians - India - ECPv5.3.2.1//NONSGML v1.0//EN
CALSCALE:GREGORIAN
METHOD:PUBLISH
X-WR-CALNAME:The Trinitarians - India
X-ORIGINAL-URL:https://trinitariansindia.org/wp
X-WR-CALDESC:Events for The Trinitarians - India
BEGIN:VTIMEZONE
TZID:UTC
BEGIN:STANDARD
TZOFFSETFROM:+0000
TZOFFSETTO:+0000
TZNAME:UTC
DTSTART:20190101T000000
END:STANDARD
END:VTIMEZONE
BEGIN:VEVENT
DTSTART;VALUE=DATE:20190602
DTEND;VALUE=DATE:20190603
DTSTAMP:20260421T212155
CREATED:20190725T044023Z
LAST-MODIFIED:20190725T044023Z
UID:6120-1559433600-1559519999@trinitariansindia.org
SUMMARY:Welcome to Bro. Akhil
DESCRIPTION:Bro. Akhil joined with the community as the new regent for this year. Hearty welcome to Bro. Akhil!
URL:https://trinitariansindia.org/wp/event/welcome-to-bro-akhil/
LOCATION:Holy Trinity Ashram\, Thrissur\, Holy Trinity Ashram\, Thrissur\, Kerala\, 680618\, India
CATEGORIES:Welcome
ATTACH;FMTTYPE=image/png:https://trinitariansindia.org/wp/wp-content/uploads/2019/07/THRISSUR-welcome-June-2019.png
END:VEVENT
END:VCALENDAR