BEGIN:VCALENDAR
VERSION:2.0
PRODID:-//The Trinitarians - India - ECPv5.3.2.1//NONSGML v1.0//EN
CALSCALE:GREGORIAN
METHOD:PUBLISH
X-WR-CALNAME:The Trinitarians - India
X-ORIGINAL-URL:https://trinitariansindia.org/wp
X-WR-CALDESC:Events for The Trinitarians - India
BEGIN:VTIMEZONE
TZID:UTC
BEGIN:STANDARD
TZOFFSETFROM:+0000
TZOFFSETTO:+0000
TZNAME:UTC
DTSTART:20190101T000000
END:STANDARD
END:VTIMEZONE
BEGIN:VEVENT
DTSTART;VALUE=DATE:20190511
DTEND;VALUE=DATE:20190515
DTSTAMP:20260422T190128
CREATED:20190615T045824Z
LAST-MODIFIED:20190615T045824Z
UID:6070-1557532800-1557878399@trinitariansindia.org
SUMMARY:Welcome to Bro. Rinto Mathew
DESCRIPTION:After the Final Profession ceremony at Fornaci\, Bro. Rinto came to our community and remained here with us for three day till he left to Rome on 14th to return to India.
URL:https://trinitariansindia.org/wp/event/welcome-to-bro-rinto-mathew/
LOCATION:Rome
CATEGORIES:Visit
ATTACH;FMTTYPE=image/png:https://trinitariansindia.org/wp/wp-content/uploads/2019/06/ITALY-farewell-Rinto-May-2019.png
END:VEVENT
END:VCALENDAR