BEGIN:VCALENDAR
VERSION:2.0
PRODID:-//The Trinitarians - India - ECPv5.3.2.1//NONSGML v1.0//EN
CALSCALE:GREGORIAN
METHOD:PUBLISH
X-WR-CALNAME:The Trinitarians - India
X-ORIGINAL-URL:https://trinitariansindia.org/wp
X-WR-CALDESC:Events for The Trinitarians - India
BEGIN:VTIMEZONE
TZID:UTC
BEGIN:STANDARD
TZOFFSETFROM:+0000
TZOFFSETTO:+0000
TZNAME:UTC
DTSTART:20210101T000000
END:STANDARD
END:VTIMEZONE
BEGIN:VEVENT
DTSTART;VALUE=DATE:20210603
DTEND;VALUE=DATE:20210604
DTSTAMP:20260421T134921
CREATED:20210719T094420Z
LAST-MODIFIED:20210719T094420Z
UID:8980-1622678400-1622764799@trinitariansindia.org
SUMMARY:Welcome to Brothers
DESCRIPTION:Brothers Alan \, Joyal and Nysal arrived in the Community on 3rd Fr. Biju along with other community members welcomed them into the community.
URL:https://trinitariansindia.org/wp/event/welcome-to-brothers/
LOCATION:Holy Trinity Ashram\, Kasaragod
CATEGORIES:Welcome
ATTACH;FMTTYPE=image/png:https://trinitariansindia.org/wp/wp-content/uploads/2021/07/KGQ-welcome-June2021.png
END:VEVENT
END:VCALENDAR