BEGIN:VCALENDAR
VERSION:2.0
PRODID:-//The Trinitarians - India - ECPv5.3.2.1//NONSGML v1.0//EN
CALSCALE:GREGORIAN
METHOD:PUBLISH
X-WR-CALNAME:The Trinitarians - India
X-ORIGINAL-URL:https://trinitariansindia.org/wp
X-WR-CALDESC:Events for The Trinitarians - India
BEGIN:VTIMEZONE
TZID:UTC
BEGIN:STANDARD
TZOFFSETFROM:+0000
TZOFFSETTO:+0000
TZNAME:UTC
DTSTART:20210101T000000
END:STANDARD
END:VTIMEZONE
BEGIN:VEVENT
DTSTART;VALUE=DATE:20210616
DTEND;VALUE=DATE:20210617
DTSTAMP:20260422T172113
CREATED:20210719T093146Z
LAST-MODIFIED:20210719T093146Z
UID:8968-1623801600-1623887999@trinitariansindia.org
SUMMARY:Welcome to Fr. Bitaju!
DESCRIPTION:Fr. Bitaju arrived the community on 16th June 2021 to take class for brothers.  He conducted a day of recollection and adoration for the Brothers at the conclusion of his classes.
URL:https://trinitariansindia.org/wp/event/welcome-to-fr-bitaju-3/
LOCATION:Holy Trinity Ashram\, Kasaragod
CATEGORIES:Workshop/Class
ATTACH;FMTTYPE=image/png:https://trinitariansindia.org/wp/wp-content/uploads/2021/07/KGQ-Class-by-Fr-Bitaju-June2021.png
END:VEVENT
END:VCALENDAR