BEGIN:VCALENDAR
VERSION:2.0
PRODID:-//The Trinitarians - India - ECPv5.3.2.1//NONSGML v1.0//EN
CALSCALE:GREGORIAN
METHOD:PUBLISH
X-WR-CALNAME:The Trinitarians - India
X-ORIGINAL-URL:https://trinitariansindia.org/wp
X-WR-CALDESC:Events for The Trinitarians - India
BEGIN:VTIMEZONE
TZID:UTC
BEGIN:STANDARD
TZOFFSETFROM:+0000
TZOFFSETTO:+0000
TZNAME:UTC
DTSTART:20200101T000000
END:STANDARD
END:VTIMEZONE
BEGIN:VEVENT
DTSTART;VALUE=DATE:20200613
DTEND;VALUE=DATE:20200614
DTSTAMP:20260422T183053
CREATED:20200716T130621Z
LAST-MODIFIED:20200716T130621Z
UID:7598-1592006400-1592092799@trinitariansindia.org
SUMMARY:Welcome to Fr. Bitaju Mathew
DESCRIPTION:The Community welcomed Fr. Bitaju officially as the Rector of the community. Fr. Jins\, the Minister felicitated and welcomed him for this new responsibility. Fr. Bitaju cut the cake to share the joy with the community.
URL:https://trinitariansindia.org/wp/event/welcome-to-fr-bitaju-mathew/
LOCATION:Holy Trinity Ashram\, Thrissur\, Holy Trinity Ashram\, Thrissur\, Kerala\, 680618\, India
CATEGORIES:Welcome
ATTACH;FMTTYPE=image/png:https://trinitariansindia.org/wp/wp-content/uploads/2020/07/TCR-welcome-to-fr.bitajunew-rector-June2020.png
END:VEVENT
END:VCALENDAR