BEGIN:VCALENDAR
VERSION:2.0
PRODID:-//The Trinitarians - India - ECPv5.3.2.1//NONSGML v1.0//EN
CALSCALE:GREGORIAN
METHOD:PUBLISH
X-WR-CALNAME:The Trinitarians - India
X-ORIGINAL-URL:https://trinitariansindia.org/wp
X-WR-CALDESC:Events for The Trinitarians - India
BEGIN:VTIMEZONE
TZID:UTC
BEGIN:STANDARD
TZOFFSETFROM:+0000
TZOFFSETTO:+0000
TZNAME:UTC
DTSTART:20180101T000000
END:STANDARD
END:VTIMEZONE
BEGIN:VEVENT
DTSTART;VALUE=DATE:20180125
DTEND;VALUE=DATE:20180126
DTSTAMP:20260422T050608
CREATED:20180210T050115Z
LAST-MODIFIED:20180210T050333Z
UID:3896-1516838400-1516924799@trinitariansindia.org
SUMMARY:Welcome to Fr. Vinaya Kumar\, O.SS.T.
DESCRIPTION:The community was glad to felicitate Fr. Vinay after his ordination.  Father Vinay offered Holy Mass for the community followed by a  small felicitation program.
URL:https://trinitariansindia.org/wp/event/welcome-to-fr-vinaya-kumar-o-ss-t/
LOCATION:Holy Trinity Ashram – Bengaluru\, Holy Trinity Ashram\, Bengaluru\, karnataka\, 560076\, India
CATEGORIES:Congratulations,Welcome
ATTACH;FMTTYPE=image/png:https://trinitariansindia.org/wp/wp-content/uploads/2018/02/Blr-Fr.vinay-welcome-Jan-18.png
END:VEVENT
END:VCALENDAR