BEGIN:VCALENDAR
VERSION:2.0
PRODID:-//The Trinitarians - India - ECPv5.3.2.1//NONSGML v1.0//EN
CALSCALE:GREGORIAN
METHOD:PUBLISH
X-WR-CALNAME:The Trinitarians - India
X-ORIGINAL-URL:https://trinitariansindia.org/wp
X-WR-CALDESC:Events for The Trinitarians - India
BEGIN:VTIMEZONE
TZID:UTC
BEGIN:STANDARD
TZOFFSETFROM:+0000
TZOFFSETTO:+0000
TZNAME:UTC
DTSTART:20190101T000000
END:STANDARD
END:VTIMEZONE
BEGIN:VEVENT
DTSTART;VALUE=DATE:20190301
DTEND;VALUE=DATE:20190307
DTSTAMP:20260423T160737
CREATED:20190411T164359Z
LAST-MODIFIED:20190411T164359Z
UID:5812-1551398400-1551916799@trinitariansindia.org
SUMMARY:Welcome to Fr. Xavier\, O.SS.T.
DESCRIPTION:Fr. Xavier Kachappilly\, OSST.\, the Councilor for Finance of the Vice Province\, arrived here after his meetings in Spain. The community was very happy to welcome him. He stayed with us for a few days and left here on March 6th. His stay with the community brought joy and life to the community. The community thanks Fr. Xavier for his visit.
URL:https://trinitariansindia.org/wp/event/welcome-to-fr-xavier-o-ss-t/
LOCATION:Rome
CATEGORIES:Visit,Welcome
ATTACH;FMTTYPE=image/png:https://trinitariansindia.org/wp/wp-content/uploads/2019/04/ITALY-welcome-xavier-March-2019.png
END:VEVENT
END:VCALENDAR