BEGIN:VCALENDAR
VERSION:2.0
PRODID:-//The Trinitarians - India - ECPv5.3.2.1//NONSGML v1.0//EN
CALSCALE:GREGORIAN
METHOD:PUBLISH
X-WR-CALNAME:The Trinitarians - India
X-ORIGINAL-URL:https://trinitariansindia.org/wp
X-WR-CALDESC:Events for The Trinitarians - India
BEGIN:VTIMEZONE
TZID:UTC
BEGIN:STANDARD
TZOFFSETFROM:+0000
TZOFFSETTO:+0000
TZNAME:UTC
DTSTART:20260101T000000
END:STANDARD
END:VTIMEZONE
BEGIN:VEVENT
DTSTART;VALUE=DATE:20260311
DTEND;VALUE=DATE:20260312
DTSTAMP:20260422T232512
CREATED:20260418T224011Z
LAST-MODIFIED:20260418T224011Z
UID:14045-1773187200-1773273599@trinitariansindia.org
SUMMARY:Welcome to Frs Jolly and Abin
DESCRIPTION:Fr. Jolly Thekkinen was installed as the Minister Conventual of the community\, and Fr. Abin as the Assistant Formation Director.
URL:https://trinitariansindia.org/wp/event/welcome-to-frs-jolly-and-abin/
LOCATION:Holy Trinity Ashram – Bengaluru\, Holy Trinity Ashram\, Bengaluru\, karnataka\, 560076\, India
CATEGORIES:Welcome
ATTACH;FMTTYPE=image/png:https://trinitariansindia.org/wp/wp-content/uploads/2026/04/BLR-welcome-March2026.png
END:VEVENT
END:VCALENDAR