BEGIN:VCALENDAR
VERSION:2.0
PRODID:-//The Trinitarians - India - ECPv5.3.2.1//NONSGML v1.0//EN
CALSCALE:GREGORIAN
METHOD:PUBLISH
X-WR-CALNAME:The Trinitarians - India
X-ORIGINAL-URL:https://trinitariansindia.org/wp
X-WR-CALDESC:Events for The Trinitarians - India
BEGIN:VTIMEZONE
TZID:UTC
BEGIN:STANDARD
TZOFFSETFROM:+0000
TZOFFSETTO:+0000
TZNAME:UTC
DTSTART:20210101T000000
END:STANDARD
END:VTIMEZONE
BEGIN:VEVENT
DTSTART;VALUE=DATE:20211107
DTEND;VALUE=DATE:20211108
DTSTAMP:20260424T045447
CREATED:20211209T135635Z
LAST-MODIFIED:20211209T135635Z
UID:9566-1636243200-1636329599@trinitariansindia.org
SUMMARY:Welcome to Mr. Thomas and Friends
DESCRIPTION:Mr. Thomas\, Mr. Sunil\, Mr. Anil\, Mr. Jimmy and Mr. Biju from Thrissur visited the community.  They are the friends of Fr. Biju\, the Minister Conventual.
URL:https://trinitariansindia.org/wp/event/welcome-to-mr-thomas-and-friends/
LOCATION:Holy Trinity Ashram\, Kasaragod
CATEGORIES:Welcome
ATTACH;FMTTYPE=image/png:https://trinitariansindia.org/wp/wp-content/uploads/2021/12/KGQ-welcome-Nov2021.png
END:VEVENT
END:VCALENDAR