BEGIN:VCALENDAR
VERSION:2.0
PRODID:-//The Trinitarians - India - ECPv5.3.2.1//NONSGML v1.0//EN
CALSCALE:GREGORIAN
METHOD:PUBLISH
X-WR-CALNAME:The Trinitarians - India
X-ORIGINAL-URL:https://trinitariansindia.org/wp
X-WR-CALDESC:Events for The Trinitarians - India
BEGIN:VTIMEZONE
TZID:UTC
BEGIN:STANDARD
TZOFFSETFROM:+0000
TZOFFSETTO:+0000
TZNAME:UTC
DTSTART:20230101T000000
END:STANDARD
END:VTIMEZONE
BEGIN:VEVENT
DTSTART;VALUE=DATE:20230819
DTEND;VALUE=DATE:20230820
DTSTAMP:20260424T195335
CREATED:20230904T163608Z
LAST-MODIFIED:20230904T163608Z
UID:12316-1692403200-1692489599@trinitariansindia.org
SUMMARY:Welcome to Mrs. Jessy
DESCRIPTION:Mrs. Jessy\, friend of Fr. Joshy visited our community on 19.08.23 and stayed with us for a week.
URL:https://trinitariansindia.org/wp/event/welcome-to-mrs-jessy/
LOCATION:Holy Trinity Ashram\, Kasaragod
ATTACH;FMTTYPE=image/png:https://trinitariansindia.org/wp/wp-content/uploads/2023/09/KGQ-welcome-to-MrsJessy-Aug2023.png
END:VEVENT
END:VCALENDAR