BEGIN:VCALENDAR
VERSION:2.0
PRODID:-//The Trinitarians - India - ECPv5.3.2.1//NONSGML v1.0//EN
CALSCALE:GREGORIAN
METHOD:PUBLISH
X-WR-CALNAME:The Trinitarians - India
X-ORIGINAL-URL:https://trinitariansindia.org/wp
X-WR-CALDESC:Events for The Trinitarians - India
BEGIN:VTIMEZONE
TZID:UTC
BEGIN:STANDARD
TZOFFSETFROM:+0000
TZOFFSETTO:+0000
TZNAME:UTC
DTSTART:20190101T000000
END:STANDARD
END:VTIMEZONE
BEGIN:VEVENT
DTSTART;VALUE=DATE:20190113
DTEND;VALUE=DATE:20190114
DTSTAMP:20260423T234559
CREATED:20190206T085600Z
LAST-MODIFIED:20190206T085600Z
UID:5534-1547337600-1547423999@trinitariansindia.org
SUMMARY:Youth Day @ Calvary
DESCRIPTION:We participate in the program called CALVARY YOUTH DAY 2K19 which was held by the Capuchin’s in the Calvary Ashram in Trichur.  There were more the 300 youth participating. It was a wonderful and joyful experience to be with the youth\, to mingle with them and to share as one family.
URL:https://trinitariansindia.org/wp/event/youth-day-calvary/
LOCATION:Trinitarian Sisters\, Thrissur\, Holy Trinity Convent\, Thrissur\, Kerala\, 680618\, India
CATEGORIES:Gathering
ATTACH;FMTTYPE=image/png:https://trinitariansindia.org/wp/wp-content/uploads/2019/02/Sisters-youth-day-Jan.2019.png
END:VEVENT
END:VCALENDAR